View In:
ArcGIS JavaScript
ArcGIS Online Map Viewer
ArcGIS Earth
ArcMap
ArcGIS Explorer
View Footprint In:
ArcGIS Online Map Viewer
Service Description: Servicio Web de Mapas del MIAS (Mapa Integrado de América del Sur) que cubre a escala 1:250 000 los países y territorios de Argentina, Bolivia, Brasil, Chile, Colombia, Ecuador, Guyana, Guyana Francesa, Paraguay, Perú, Surinam, Uruguay y Venezuela. Muestra datos digitales vectoriales y oficiales de todos esos países continuos, armonizados, estandarizados y normalizados bajo la coordinación del Instituto Panamericano de Geografía e Historia (IPGH) y con la financiación del Banco Latinoamericano de Desarrollo (CAF). Consta de estas capas: Límites administrativos, Hidrografía, Poblados, Vías, Morfología del Terreno y Miscelánea (Puntos de Interés). Hay un fondo de tintas hipsográficas obtenido a partir de los datos SRTM (Shuttle Radar Topography Mission) de la NASA y la NGA. Son datos fundamentales cuyo propósito es servir a todo tipo de usuarios en toda clase de aplicaciones. Se publica bajo una licencia CC BY 4.0 CAF, IPGH, Programa GeoSUR, IGN Argentina, IGM Bolivia, IBGE Brasil, IGM Chile, IGAC Colombia, IGM Ecuador, GLS Guyana, IGN Francia, DSGM Paraguay, IGN Perú, MI-GLIS Surinam, IGM Uruguay y IGVSB Venezuela. Los datos son de 2019 y su periodo de actualización es de 5 años y los datos se publican en EPSG:3857 (WGS84 + Web Mercator, cmpatible con SIRGAS + Web Mercator). Los contornos incluidos en la capa país son referenciales, orientativos y no tienen ninguna validez oficial, ni probatoria, en consonancia con el Capítulo I, artículo 1 del Estatuto Orgánico del IPGH.
Map Name: Layers
Legend
All Layers and Tables
Dynamic Legend
Dynamic All Layers
Layers:
Description:
Copyright Text: GEOSUR
Spatial Reference:
102100
(3857)
Single Fused Map Cache: true
Tile Info:
- Height: 256
- Width: 256
- DPI: 96
-
Levels of Detail: 24
-
Level ID: 1
[ Start Tile, End Tile ]
- Resolution: 78271.5169639999
- Scale: 2.95828763795777E8
-
Level ID: 2
[ Start Tile, End Tile ]
- Resolution: 39135.7584820001
- Scale: 1.47914381897889E8
-
Level ID: 3
[ Start Tile, End Tile ]
- Resolution: 19567.8792409999
- Scale: 7.3957190948944E7
-
Level ID: 4
[ Start Tile, End Tile ]
- Resolution: 9783.93962049996
- Scale: 3.6978595474472E7
-
Level ID: 5
[ Start Tile, End Tile ]
- Resolution: 4891.96981024998
- Scale: 1.8489297737236E7
- Format: MIXED
- Compression Quality: 75.0
- Origin:
X: -2.0037508342787E7
Y: 2.0037508342787E7
- Spatial Reference:
102100
(3857)
Initial Extent:
XMin: -1.304934198811918E7
YMin: -4809787.969679246
XMax: 616414.5100604836
YMax: 2320747.1247242778
Spatial Reference:
102100
Full Extent:
XMin: -1.3568031001614977E7
YMin: -7555984.3805
XMax: -256895.00278502516
YMax: 1525341.0965999998
Spatial Reference:
102100
Units: esriMeters
Supported Image Format Types: PNG32,PNG24,PNG,JPG,DIB,TIFF,EMF,PS,PDF,GIF,SVG,SVGZ,BMP
Document Info:
Title: Servicio Web de Mapas del MIAS v1.0
Author: GEOSUR
Comments: Servicio Web de Mapas del MIAS (Mapa Integrado de América del Sur) que cubre a escala 1:250 000 los países y territorios de Argentina, Bolivia, Brasil, Chile, Colombia, Ecuador, Guyana, Guyana Francesa, Paraguay, Perú, Surinam, Uruguay y Venezuela. Muestra datos digitales vectoriales y oficiales de todos esos países continuos, armonizados, estandarizados y normalizados bajo la coordinación del Instituto Panamericano de Geografía e Historia (IPGH) y con la financiación del Banco Latinoamericano de Desarrollo (CAF). Consta de estas capas: Límites administrativos, Hidrografía, Poblados, Vías, Morfología del Terreno y Miscelánea (Puntos de Interés). Hay un fondo de tintas hipsográficas obtenido a partir de los datos SRTM (Shuttle Radar Topography Mission) de la NASA y la NGA. Son datos fundamentales cuyo propósito es servir a todo tipo de usuarios en toda clase de aplicaciones. Se publica bajo una licencia CC BY 4.0 CAF, IPGH, Programa GeoSUR, IGN Argentina, IGM Bolivia, IBGE Brasil, IGM Chile, IGAC Colombia, IGM Ecuador, GLS Guyana, IGN Francia, DSGM Paraguay, IGN Perú, MI-GLIS Surinam, IGM Uruguay y IGVSB Venezuela. Los datos son de 2019 y su periodo de actualización es de 5 años y los datos se publican en EPSG:3857 (WGS84 + Web Mercator, cmpatible con SIRGAS + Web Mercator). Los contornos incluidos en la capa país son referenciales, orientativos y no tienen ninguna validez oficial, ni probatoria, en consonancia con el Capítulo I, artículo 1 del Estatuto Orgánico del IPGH.
Subject: Servicio Web de Mapas del MIAS v1.0
Category:
Keywords: Mapa digital fundamental,datos fundamentales,Límites administrativos,Hidrografía,Poblados,Vías,Morfología del terreno,Miscelánea
AntialiasingMode: None
TextAntialiasingMode: Force
Supports Dynamic Layers: true
MaxRecordCount: 1000
MaxImageHeight: 4096
MaxImageWidth: 4096
Supported Query Formats: JSON, AMF, geoJSON
Min Scale: 7.3957190948944E7
Max Scale: 72223.819286
Supports Datum Transformation: true
Child Resources:
Info
Dynamic Layer
Supported Operations:
Export Map
Identify
QueryDomains
Find
Return Updates